BEGIN:VCALENDAR
VERSION:2.0
PRODID:-// - ECPv6.11.2.1//NONSGML v1.0//EN
CALSCALE:GREGORIAN
METHOD:PUBLISH
X-ORIGINAL-URL:https://cirnef.normandie-univ.fr
X-WR-CALDESC:Évènements pour 
REFRESH-INTERVAL;VALUE=DURATION:PT1H
X-Robots-Tag:noindex
X-PUBLISHED-TTL:PT1H
BEGIN:VTIMEZONE
TZID:Europe/Paris
BEGIN:DAYLIGHT
TZOFFSETFROM:+0100
TZOFFSETTO:+0200
TZNAME:CEST
DTSTART:20260329T010000
END:DAYLIGHT
BEGIN:STANDARD
TZOFFSETFROM:+0200
TZOFFSETTO:+0100
TZNAME:CET
DTSTART:20261025T010000
END:STANDARD
END:VTIMEZONE
BEGIN:VEVENT
DTSTART;VALUE=DATE:20260428
DTEND;VALUE=DATE:20260429
DTSTAMP:20260421T165845
CREATED:20251201T085359Z
LAST-MODIFIED:20260310T081518Z
UID:8266-1777334400-1777420799@cirnef.normandie-univ.fr
SUMMARY:Journée d'étude "Professionnalisation et efficacité au travail : regards croisés"
DESCRIPTION:Pour en savoir plus\, cliquer sur ce lien \n 
URL:https://cirnef.normandie-univ.fr/?tribe_events=journee-detude-professionnalisation-et-efficacite-au-travail-regards-croises
LOCATION:Maison de l’Université\, Université de Rouen Normandie
END:VEVENT
BEGIN:VEVENT
DTSTART;VALUE=DATE:20260610
DTEND;VALUE=DATE:20260613
DTSTAMP:20260421T165845
CREATED:20251215T103849Z
LAST-MODIFIED:20251215T103849Z
UID:8293-1781049600-1781308799@cirnef.normandie-univ.fr
SUMMARY:Colloque annuel de la Sofphied "Culture(s) et éducation"
DESCRIPTION:
URL:https://cirnef.normandie-univ.fr/?tribe_events=colloque-annuel-de-la-sofphied-cultures-et-education
LOCATION:Université de Caen Normandie
END:VEVENT
BEGIN:VEVENT
DTSTART;VALUE=DATE:20260622
DTEND;VALUE=DATE:20260625
DTSTAMP:20260421T165845
CREATED:20250627T152444Z
LAST-MODIFIED:20250627T152527Z
UID:7979-1782086400-1782345599@cirnef.normandie-univ.fr
SUMMARY:Colloque international Egalisup3 (22-24 juin 2026)
DESCRIPTION:
URL:https://cirnef.normandie-univ.fr/?tribe_events=colloque-international-egalisup3-22-24-juin-2026
LOCATION:INSPE Normandie Rouen – Le Havre
END:VEVENT
BEGIN:VEVENT
DTSTART;VALUE=DATE:20260626
DTEND;VALUE=DATE:20260627
DTSTAMP:20260421T165845
CREATED:20260106T095121Z
LAST-MODIFIED:20260106T095209Z
UID:8319-1782432000-1782518399@cirnef.normandie-univ.fr
SUMMARY:Séminaire caennais CIRNEF
DESCRIPTION:Le laboratoire CIRNEF organise à l’Université de Caen Normandie le vendredi 26 juin 2026\, de 9h30 à 17h\, un séminaire visant à une meilleure interconnaissance des travaux menés par les chercheur.e.s des 4 thèmes du laboratoire\, avec un focus cette année sur les travaux menés à l’Université de Caen Normandie. Ce séminaire est ouvert à tous les membres du laboratoire (titulaires\, doctorants\, associés\, membres temporaires) ainsi qu’aux formateurs de l’INSPE de Caen (précisions sur le programme fin mai 2026).
URL:https://cirnef.normandie-univ.fr/?tribe_events=8319
LOCATION:Université de Caen Normandie
END:VEVENT
END:VCALENDAR